BEGIN:VCALENDAR
VERSION:2.0
PRODID:-//New Hope RBC - ECPv6.15.20//NONSGML v1.0//EN
CALSCALE:GREGORIAN
METHOD:PUBLISH
X-WR-CALNAME:New Hope RBC
X-ORIGINAL-URL:https://newhoperbc.com
X-WR-CALDESC:Events for New Hope RBC
REFRESH-INTERVAL;VALUE=DURATION:PT1H
X-Robots-Tag:noindex
X-PUBLISHED-TTL:PT1H
BEGIN:VTIMEZONE
TZID:America/New_York
BEGIN:DAYLIGHT
TZOFFSETFROM:-0500
TZOFFSETTO:-0400
TZNAME:EDT
DTSTART:20230312T070000
END:DAYLIGHT
BEGIN:STANDARD
TZOFFSETFROM:-0400
TZOFFSETTO:-0500
TZNAME:EST
DTSTART:20231105T060000
END:STANDARD
BEGIN:DAYLIGHT
TZOFFSETFROM:-0500
TZOFFSETTO:-0400
TZNAME:EDT
DTSTART:20240310T070000
END:DAYLIGHT
BEGIN:STANDARD
TZOFFSETFROM:-0400
TZOFFSETTO:-0500
TZNAME:EST
DTSTART:20241103T060000
END:STANDARD
BEGIN:DAYLIGHT
TZOFFSETFROM:-0500
TZOFFSETTO:-0400
TZNAME:EDT
DTSTART:20250309T070000
END:DAYLIGHT
BEGIN:STANDARD
TZOFFSETFROM:-0400
TZOFFSETTO:-0500
TZNAME:EST
DTSTART:20251102T060000
END:STANDARD
END:VTIMEZONE
BEGIN:VEVENT
DTSTART;TZID=America/New_York:20241203T210000
DTEND;TZID=America/New_York:20241217T220000
DTSTAMP:20260423T180202
CREATED:20241101T043500Z
LAST-MODIFIED:20241210T221802Z
UID:4742-1733259600-1734472800@newhoperbc.com
SUMMARY:🍇 NYG: Bearing Spiritual Fruit (Bible Study)🍇
DESCRIPTION:Bearing Spiritual Fruit (Galatians 5)\n\n\n\nYoung adults and young-at-heart\, it’s time to dig deep! Join Not Yo GrandMaMa’s Bible Study this December for a fresh\, three-week journey through Galatians 5. We’re exploring what it means to experience real freedom\, live empowered by the Spirit\, and grow the kind of fruit that transforms lives. \n\n\n\nHere’s What’s Coming Up:\n\n\n\n✨ Week 1: Freedom in Christ (Galatians 5:1-6)Kick things off by discovering what it means to live fully free in Christ—no more chains! Let’s talk about how freedom changes everything. \n\n\n\n🌊 Week 2: Walking by the Spirit (Galatians 5:7-15)This week\, we’ll look at how to stay close to the Spirit and overcome the distractions and challenges we all face. Get ready to unpack what it means to walk the talk!🍒  \n\n\n\nWeek 3: The Fruit of the Spirit (Galatians 5:16-26)In our final week\, we’ll dive into the nine powerful qualities of the Spirit’s fruit and discuss how to live them out every day. Love\, joy\, peace\, patience—let’s grow in ways that matter! \n\n\n\nDetails:\n\n\n\n📍 Where: Zoom [Link will be sent after Registration]⏰ When: Tuesdays at 9p Eastern / 8p Central / 5p Alaska / 4p Hawaii👥 Who: Open to anyone ready to dive into God’s Word with real\, honest conversations. \n\n\n\nCome ready to learn\, grow\, and leave bearing fruit that lasts.  \n\n\n\nNot Yo GrandMaMa’s Bible Study—where faith is real\, growth is deep\, and you belong. \n\n\n\nThis isn’t just a Bible study; it’s a community.
URL:https://newhoperbc.com/event/not-yo-grandmamas-bible-study-bearing-spiritual-fruit/
LOCATION:Zoom (Not Yo GrandMaMa’s Bible Study)
CATEGORIES:Bible Study,Not Yo GrandMaMa's Bible Study,STUDY
ATTACH;FMTTYPE=image/png:https://newhoperbc.com/wp-content/uploads/2024/11/Galatians-5-NH-Bible-Study-The-Spirit.png
END:VEVENT
BEGIN:VEVENT
DTSTART;TZID=America/New_York:20241112T210000
DTEND;TZID=America/New_York:20241119T220000
DTSTAMP:20260423T180202
CREATED:20241101T230053Z
LAST-MODIFIED:20241111T055921Z
UID:4724-1731445200-1732053600@newhoperbc.com
SUMMARY:Not Yo GrandMaMa’s Bible Study: “Prayer and Communication with God” (Matthew 6)
DESCRIPTION:Prayer and Communication with God – Matthew 6\nYoung adults and young-at-heart\, it’s time to shake up your Bible study! Join Not Yo GrandMaMa’s Bible Study for a fresh\, two-week dive into Prayer and Communication with God. This isn’t your typical Bible study—prepare for honest conversations\, big questions\, and real insights as we unpack the Lord’s Prayer in Matthew 6. Whether you’re new to faith or ready to deepen your relationship with God\, this series is designed to get you connected\, challenged\, and excited about prayer.\nWhat to Expect:\n🗓 Week 1: The Lord’s Prayer\, Part 1 (Matthew 6:9-13)\n\nGet ready to uncover each line of the Lord’s Prayer in a way you’ve never heard before! We’ll look at what it means to talk to God as our Father\, seek His kingdom\, trust Him for our needs\, and live in daily dependence. Bring your Bible\, your questions\, and an open heart.\n🗓 Week 2: The Lord’s Prayer\, Part 2 (Matthew 6:14-15)\n\nThis week\, we’re digging into one of the biggest challenges in prayer: forgiveness. How do we ask for it? Why does Jesus call us to forgive others? This session will be real\, raw\, and life-changing.\nDetails:\n📍 Where: Zoom [Link will be sent after Registration]\n⏰ When: Tuesdays at 9p Eastern / 8p Central / 5p Alaska / 4p Hawaii\n📖 Who: Open to anyone who’s curious\, hungry for truth\, and not afraid to go deep!\n\nThis isn’t just a study; it’s a community.\n\nSo come ready to learn\, share\, and grow with others who are serious about experiencing God in fresh\, powerful ways. Not Yo GrandMaMa’s Bible Study—because faith is real\, and so are we.
URL:https://newhoperbc.com/event/not-yo-grandmamas-bible-study-prayer-and-communication-with-god-matthew-6/
LOCATION:Zoom (Not Yo GrandMaMa’s Bible Study)
CATEGORIES:Bible Study,Not Yo GrandMaMa's Bible Study,STUDY
ATTACH;FMTTYPE=image/png:https://newhoperbc.com/wp-content/uploads/2024/11/Matthew-6-NH-Bible-Study-The-Lords-Prayer2.png
ORGANIZER;CN="Pastor D Nicole":MAILTO:newhope@newhoperbc.com
END:VEVENT
BEGIN:VEVENT
DTSTART;TZID=America/New_York:20241001T190000
DTEND;TZID=America/New_York:20241001T203000
DTSTAMP:20260423T180202
CREATED:20240926T021120Z
LAST-MODIFIED:20241001T070639Z
UID:4355-1727809200-1727814600@newhoperbc.com
SUMMARY:GROUP STUDY: Psalm 23:1
DESCRIPTION:Join Our 6-Week Bible Study on Psalm 23 and “The Good Shepherd”\nREGISTER HERE!\nSessions Include:\n\nTrusting the Shepherd’s Voice\nRest and Provision in Difficult Times\nWalking Through Life’s Valleys with Confidence\nFinding Peace Amidst Conflict\nLiving in the Overflow of God’s Goodness\nExperiencing Spiritual Abundance Beyond What You See\n\nThis study is perfect for young adults seeking a closer walk with Christ and wanting to leave their old ways behind. Let the Shepherd lead you—join us for this transformative journey. \nGet Your Book Now\, and Start Reading:\nhttps://amzn.to/3FpLigg (Amazon) \nClick this link to find details and join link for each week:\nfb.com/NewHopeRBC/events
URL:https://newhoperbc.com/event/group-study-psalm-23-1/
LOCATION:Home
CATEGORIES:Bible Study,Movie Study,STUDY
ATTACH;FMTTYPE=image/png:https://newhoperbc.com/wp-content/uploads/2024/09/NH-Bible-Study-PSALM-231.png
ORGANIZER;CN="Pastor D Nicole":MAILTO:newhope@newhoperbc.com
END:VEVENT
END:VCALENDAR