BEGIN:VCALENDAR
VERSION:2.0
PRODID:-//New Hope RBC - ECPv6.15.20//NONSGML v1.0//EN
CALSCALE:GREGORIAN
METHOD:PUBLISH
X-ORIGINAL-URL:https://newhoperbc.com
X-WR-CALDESC:Events for New Hope RBC
REFRESH-INTERVAL;VALUE=DURATION:PT1H
X-Robots-Tag:noindex
X-PUBLISHED-TTL:PT1H
BEGIN:VTIMEZONE
TZID:America/New_York
BEGIN:DAYLIGHT
TZOFFSETFROM:-0500
TZOFFSETTO:-0400
TZNAME:EDT
DTSTART:20220313T070000
END:DAYLIGHT
BEGIN:STANDARD
TZOFFSETFROM:-0400
TZOFFSETTO:-0500
TZNAME:EST
DTSTART:20221106T060000
END:STANDARD
BEGIN:DAYLIGHT
TZOFFSETFROM:-0500
TZOFFSETTO:-0400
TZNAME:EDT
DTSTART:20230312T070000
END:DAYLIGHT
BEGIN:STANDARD
TZOFFSETFROM:-0400
TZOFFSETTO:-0500
TZNAME:EST
DTSTART:20231105T060000
END:STANDARD
BEGIN:DAYLIGHT
TZOFFSETFROM:-0500
TZOFFSETTO:-0400
TZNAME:EDT
DTSTART:20240310T070000
END:DAYLIGHT
BEGIN:STANDARD
TZOFFSETFROM:-0400
TZOFFSETTO:-0500
TZNAME:EST
DTSTART:20241103T060000
END:STANDARD
END:VTIMEZONE
BEGIN:VEVENT
DTSTART;TZID=America/New_York:20230414T110000
DTEND;TZID=America/New_York:20230519T120000
DTSTAMP:20260423T180326
CREATED:20230324T101758Z
LAST-MODIFIED:20230324T101758Z
UID:3926-1681470000-1684497600@newhoperbc.com
SUMMARY:BOOK STUDY: If You Want to Walk on Water\, You've Got to Get Out of the Boat
DESCRIPTION:Please join us for a six-session small group Bible study\, where you’ll learn how to move beyond fear to discover God’s unique calling for your life! \nPeter may have been the first one out of the boat\, but Jesus’ invitation to walk on water is for you as well. \nBut walk on water?\nWhat does that mean? \nThis book helps you answer Christ’s call to greater faith\, power-filled deeds\, and a new way of knowing how to discern God’s call\, transcend fear\, risk faith\, manage failure\, and trust God.\nRelating to the story in Matthew 14 to life today\, teacher and bestselling author John Ortberg invites you to consider the incredible potential that awaits you outside your comfort zone. \nOur study will be filled with insights\, questions for discussion\, and applications that will help you connect a new way of thinking to actual deeds and a different approach to life. \nOut on the risky waters of faith\, Jesus is waiting to meet you in ways that will change your forever\, deepening your character and your trust in God. \nSessions include:\n1 What’s Water Walking?\n2 The Tragedy of the Unopened Gift\n3 Find Your Calling and Get Your Feet Wet!\n4 Facing Our Challenges\, Conquering Our Fears\n5 Good News for Cave Dwellers\n6 Learning to Wait on Our Big God \nGet Your Book Now\, and Start Reading:\nhttps://amzn.to/3FpLigg (Amazon) \nClick this link to find details and join link for each week:\nfb.com/NewHopeRBC/events
URL:https://newhoperbc.com/event/book-study-if-you-want-to-walk-on-water-youve-got-to-get-out-of-the-boat/
LOCATION:Home
CATEGORIES:Book Study,STUDY
ATTACH;FMTTYPE=image/png:https://newhoperbc.com/wp-content/uploads/2023/03/New-Hope-BOOK-STUDY-If-You-Want-to-Walk-on-Water-2.png
ORGANIZER;CN="Pastor D Nicole":MAILTO:newhope@newhoperbc.com
END:VEVENT
END:VCALENDAR